Workbook

Sheet COMBINED
A1: MONTHLY REPORT OF FEDERAL CIVILIAN EMPLOYMENT (SF-113-A Format)
A2: 1 | B2: DEPARTMENT OR AGENCY: | C2: Department of Defense
A3: 2 | B3: OTHER ORGANIZATIONAL UNIT: | C3: Defense Security Cooperation Agency (DD06)
A4: 3 | B4: EMPLOYMENT AS OF: | C4: 41547
A5: 4 | B5: PAYROLL FROM: | C5: 41456 | D5: TO: | E5: 41547
A6: 5 | B6: TURNOVER FROM: | C6: 41456 | D6: TO: | E6: 41547
B7: Employment, Payroll, and Turnover | C7: Total All Areas | D7: U. S. Territories | E7: Foreign Countries | F7: Wash., D.C. Metro. Area | G7: Outside Wash., Metro. Area
C8: (A) | D8: (B) | E8: (C) | F8: (D) | G8: (E)
B9: SECTION I - CURRENT STATUS
A10: 1 | B10: Grand Total Employment | C10: =SF113A___Federal_Civilian_Empl_!C10+FNDWRR!C10 -> 428 | D10: =SF113A___Federal_Civilian_Empl_!D10+FNDWRR!D10 -> 0 | E10: =SF113A___Federal_Civilian_Empl_!E10+FNDWRR!E10 -> 8 | F10: =SF113A___Federal_Civilian_Empl_!F10+FNDWRR!F10 -> 299 | G10: =SF113A___Federal_Civilian_Empl_!G10+FNDWRR!G10 -> 121
A11: 2 | B11: Total in Permanent Positions | C11: =SF113A___Federal_Civilian_Empl_!C11+FNDWRR!C11 -> 428 | D11: =SF113A___Federal_Civilian_Empl_!D11+FNDWRR!D11 -> 0 | E11: =SF113A___Federal_Civilian_Empl_!E11+FNDWRR!E11 -> 8 | F11: =SF113A___Federal_Civilian_Empl_!F11+FNDWRR!F11 -> 299 | G11: =SF113A___Federal_Civilian_Empl_!G11+FNDWRR!G11 -> 121
A12: 3 | B12: Full-Time | C12: =SF113A___Federal_Civilian_Empl_!C12+FNDWRR!C12 -> 428 | D12: =SF113A___Federal_Civilian_Empl_!D12+FNDWRR!D12 -> 0 | E12: =SF113A___Federal_Civilian_Empl_!E12+FNDWRR!E12 -> 8 | F12: =SF113A___Federal_Civilian_Empl_!F12+FNDWRR!F12 -> 299 | G12: =SF113A___Federal_Civilian_Empl_!G12+FNDWRR!G12 -> 121
A13: 4 | B13: Full-Time in Permanent Positions | C13: =SF113A___Federal_Civilian_Empl_!C13+FNDWRR!C13 -> 428 | D13: =SF113A___Federal_Civilian_Empl_!D13+FNDWRR!D13 -> 0 | E13: =SF113A___Federal_Civilian_Empl_!E13+FNDWRR!E13 -> 8 | F13: =SF113A___Federal_Civilian_Empl_!F13+FNDWRR!F13 -> 299 | G13: =SF113A___Federal_Civilian_Empl_!G13+FNDWRR!G13 -> 121
A14: 5 | B14: Full-Time with Permanent Appointments | C14: =SF113A___Federal_Civilian_Empl_!C14+FNDWRR!C14 -> 381 | D14: =SF113A___Federal_Civilian_Empl_!D14+FNDWRR!D14 -> 0 | E14: =SF113A___Federal_Civilian_Empl_!E14+FNDWRR!E14 -> 8 | F14: =SF113A___Federal_Civilian_Empl_!F14+FNDWRR!F14 -> 252 | G14: =SF113A___Federal_Civilian_Empl_!G14+FNDWRR!G14 -> 121
A15: 6 | B15: Part-Time | C15: =SF113A___Federal_Civilian_Empl_!C15+FNDWRR!C15 -> 0 | D15: =SF113A___Federal_Civilian_Empl_!D15+FNDWRR!D15 -> 0 | E15: =SF113A___Federal_Civilian_Empl_!E15+FNDWRR!E15 -> 0 | F15: =SF113A___Federal_Civilian_Empl_!F15+FNDWRR!F15 -> 0 | G15: =SF113A___Federal_Civilian_Empl_!G15+FNDWRR!G15 -> 0
A16: 7 | B16: Part-Time with Permanent Appointments | C16: =SF113A___Federal_Civilian_Empl_!C16+FNDWRR!C16 -> 0 | D16: =SF113A___Federal_Civilian_Empl_!D16+FNDWRR!D16 -> 0 | E16: =SF113A___Federal_Civilian_Empl_!E16+FNDWRR!E16 -> 0 | F16: =SF113A___Federal_Civilian_Empl_!F16+FNDWRR!F16 -> 0 | G16: =SF113A___Federal_Civilian_Empl_!G16+FNDWRR!G16 -> 0
A17: 8 | B17: Intermittent | C17: =SF113A___Federal_Civilian_Empl_!C17+FNDWRR!C17 -> 0 | D17: =SF113A___Federal_Civilian_Empl_!D17+FNDWRR!D17 -> 0 | E17: =SF113A___Federal_Civilian_Empl_!E17+FNDWRR!E17 -> 0 | F17: =SF113A___Federal_Civilian_Empl_!F17+FNDWRR!F17 -> 0 | G17: =SF113A___Federal_Civilian_Empl_!G17+FNDWRR!G17 -> 0
A18: 9 | B18: Competitive Service | C18: =SF113A___Federal_Civilian_Empl_!C18+FNDWRR!C18 -> 365 | D18: =SF113A___Federal_Civilian_Empl_!D18+FNDWRR!D18 -> 0 | E18: =SF113A___Federal_Civilian_Empl_!E18+FNDWRR!E18 -> 8 | F18: =SF113A___Federal_Civilian_Empl_!F18+FNDWRR!F18 -> 244 | G18: =SF113A___Federal_Civilian_Empl_!G18+FNDWRR!G18 -> 113
A19: 10 | B19: With Permanent Appointments | C19: =SF113A___Federal_Civilian_Empl_!C19+FNDWRR!C19 -> 365 | D19: =SF113A___Federal_Civilian_Empl_!D19+FNDWRR!D19 -> 0 | E19: =SF113A___Federal_Civilian_Empl_!E19+FNDWRR!E19 -> 8 | F19: =SF113A___Federal_Civilian_Empl_!F19+FNDWRR!F19 -> 244 | G19: =SF113A___Federal_Civilian_Empl_!G19+FNDWRR!G19 -> 113
A20: 11 | B20: Excepted Service and SES | C20: =SF113A___Federal_Civilian_Empl_!C20+FNDWRR!C20 -> 63 | D20: =SF113A___Federal_Civilian_Empl_!D20+FNDWRR!D20 -> 0 | E20: =SF113A___Federal_Civilian_Empl_!E20+FNDWRR!E20 -> 0 | F20: =SF113A___Federal_Civilian_Empl_!F20+FNDWRR!F20 -> 55 | G20: =SF113A___Federal_Civilian_Empl_!G20+FNDWRR!G20 -> 8
A21: 12 | B21: With Permanent Appointments | C21: =SF113A___Federal_Civilian_Empl_!C21+FNDWRR!C21 -> 16 | D21: =SF113A___Federal_Civilian_Empl_!D21+FNDWRR!D21 -> 0 | E21: =SF113A___Federal_Civilian_Empl_!E21+FNDWRR!E21 -> 0 | F21: =SF113A___Federal_Civilian_Empl_!F21+FNDWRR!F21 -> 8 | G21: =SF113A___Federal_Civilian_Empl_!G21+FNDWRR!G21 -> 8
... A25: 16 | B25: Total Intermittent Not Working | C25: =SF113A___Federal_Civilian_Empl_!C25+FNDWRR!C25 -> 0 | D25: =SF113A___Federal_Civilian_Empl_!D25+FNDWRR!D25 -> 0 | E25: =SF113A___Federal_Civilian_Empl_!E25+FNDWRR!E25 -> 0 | F25: =SF113A___Federal_Civilian_Empl_!F25+FNDWRR!F25 -> 0 | G25: =SF113A___Federal_Civilian_Empl_!G25+FNDWRR!G25 -> 0
B26: SECTION II - PAYROLL
A27: 17 | B27: Wages and Salaries Earned – Total (1000/Base) | C27: =SF113A___Federal_Civilian_Empl_!C27+FNDWRR!C27 -> 0 | D27: =SF113A___Federal_Civilian_Empl_!D27+FNDWRR!D27 -> 0 | E27: =SF113A___Federal_Civilian_Empl_!E27+FNDWRR!E27 -> 0 | F27: =SF113A___Federal_Civilian_Empl_!F27+FNDWRR!F27 -> 0 | G27: =SF113A___Federal_Civilian_Empl_!G27+FNDWRR!G27 -> 0
A28: 18 | B28: Lump Sum Payment (1000/Base) | C28: =SF113A___Federal_Civilian_Empl_!C28+FNDWRR!C28 -> 0 | D28: =SF113A___Federal_Civilian_Empl_!D28+FNDWRR!D28 -> 0 | E28: =SF113A___Federal_Civilian_Empl_!E28+FNDWRR!E28 -> 0 | F28: =SF113A___Federal_Civilian_Empl_!F28+FNDWRR!F28 -> 0 | G28: =SF113A___Federal_Civilian_Empl_!G28+FNDWRR!G28 -> 0
B29: SECTION III - TURNOVER
A30: 19 | B30: Total Accessions | C30: =SF113A___Federal_Civilian_Empl_!C30+FNDWRR!C30 -> 7 | D30: =SF113A___Federal_Civilian_Empl_!D30+FNDWRR!D30 -> 0 | E30: =SF113A___Federal_Civilian_Empl_!E30+FNDWRR!E30 -> 0 | F30: =SF113A___Federal_Civilian_Empl_!F30+FNDWRR!F30 -> 7 | G30: =SF113A___Federal_Civilian_Empl_!G30+FNDWRR!G30 -> 0
A31: 20 | B31: Transfers | C31: =SF113A___Federal_Civilian_Empl_!C31+FNDWRR!C31 -> 0 | D31: =SF113A___Federal_Civilian_Empl_!D31+FNDWRR!D31 -> 0 | E31: =SF113A___Federal_Civilian_Empl_!E31+FNDWRR!E31 -> 0 | F31: =SF113A___Federal_Civilian_Empl_!F31+FNDWRR!F31 -> 0 | G31: =SF113A___Federal_Civilian_Empl_!G31+FNDWRR!G31 -> 0
A32: 21 | B32: Total New Hires | C32: =SF113A___Federal_Civilian_Empl_!C32+FNDWRR!C32 -> 7 | D32: =SF113A___Federal_Civilian_Empl_!D32+FNDWRR!D32 -> 0 | E32: =SF113A___Federal_Civilian_Empl_!E32+FNDWRR!E32 -> 0 | F32: =SF113A___Federal_Civilian_Empl_!F32+FNDWRR!F32 -> 7 | G32: =SF113A___Federal_Civilian_Empl_!G32+FNDWRR!G32 -> 0
A33: 22 | B33: Accessions to the Competitive Service | C33: =SF113A___Federal_Civilian_Empl_!C33+FNDWRR!C33 -> 5 | D33: =SF113A___Federal_Civilian_Empl_!D33+FNDWRR!D33 -> 0 | E33: =SF113A___Federal_Civilian_Empl_!E33+FNDWRR!E33 -> 0 | F33: =SF113A___Federal_Civilian_Empl_!F33+FNDWRR!F33 -> 5 | G33: =SF113A___Federal_Civilian_Empl_!G33+FNDWRR!G33 -> 0
A34: 23 | B34: New Hires to the Competitive Service | C34: =SF113A___Federal_Civilian_Empl_!C34+FNDWRR!C34 -> 5 | D34: =SF113A___Federal_Civilian_Empl_!D34+FNDWRR!D34 -> 0 | E34: =SF113A___Federal_Civilian_Empl_!E34+FNDWRR!E34 -> 0 | F34: =SF113A___Federal_Civilian_Empl_!F34+FNDWRR!F34 -> 5 | G34: =SF113A___Federal_Civilian_Empl_!G34+FNDWRR!G34 -> 0
A35: 24 | B35: U. S. Citizens | C35: =SF113A___Federal_Civilian_Empl_!C35+FNDWRR!C35 -> 7 | D35: =SF113A___Federal_Civilian_Empl_!D35+FNDWRR!D35 -> 0 | E35: =SF113A___Federal_Civilian_Empl_!E35+FNDWRR!E35 -> 0 | F35: =SF113A___Federal_Civilian_Empl_!F35+FNDWRR!F35 -> 7 | G35: =SF113A___Federal_Civilian_Empl_!G35+FNDWRR!G35 -> 0
A36: 25 | B36: Total Separations | C36: =SF113A___Federal_Civilian_Empl_!C36+FNDWRR!C36 -> 10 | D36: =SF113A___Federal_Civilian_Empl_!D36+FNDWRR!D36 -> 0 | E36: =SF113A___Federal_Civilian_Empl_!E36+FNDWRR!E36 -> 0 | F36: =SF113A___Federal_Civilian_Empl_!F36+FNDWRR!F36 -> 5 | G36: =SF113A___Federal_Civilian_Empl_!G36+FNDWRR!G36 -> 5
A37: 26 | B37: Transfers | C37: =SF113A___Federal_Civilian_Empl_!C37+FNDWRR!C37 -> 1 | D37: =SF113A___Federal_Civilian_Empl_!D37+FNDWRR!D37 -> 0 | E37: =SF113A___Federal_Civilian_Empl_!E37+FNDWRR!E37 -> 0 | F37: =SF113A___Federal_Civilian_Empl_!F37+FNDWRR!F37 -> 1 | G37: =SF113A___Federal_Civilian_Empl_!G37+FNDWRR!G37 -> 0
A38: 27 | B38: Quits | C38: =SF113A___Federal_Civilian_Empl_!C38+FNDWRR!C38 -> 4 | D38: =SF113A___Federal_Civilian_Empl_!D38+FNDWRR!D38 -> 0 | E38: =SF113A___Federal_Civilian_Empl_!E38+FNDWRR!E38 -> 0 | F38: =SF113A___Federal_Civilian_Empl_!F38+FNDWRR!F38 -> 3 | G38: =SF113A___Federal_Civilian_Empl_!G38+FNDWRR!G38 -> 1
A39: 28 | B39: U. S. Citizens | C39: =SF113A___Federal_Civilian_Empl_!C39+FNDWRR!C39 -> 10 | D39: =SF113A___Federal_Civilian_Empl_!D39+FNDWRR!D39 -> 0 | E39: =SF113A___Federal_Civilian_Empl_!E39+FNDWRR!E39 -> 0 | F39: =SF113A___Federal_Civilian_Empl_!F39+FNDWRR!F39 -> 5 | G39: =SF113A___Federal_Civilian_Empl_!G39+FNDWRR!G39 -> 5
B40: SECTION IV - DATA EXCLUDING SPECIAL EMPLOYMENT CATEGORIES
A41: 29 | B41: Total Employment | C41: =SF113A___Federal_Civilian_Empl_!C41+FNDWRR!C41 -> 428 | D41: =SF113A___Federal_Civilian_Empl_!D41+FNDWRR!D41 -> 0 | E41: =SF113A___Federal_Civilian_Empl_!E41+FNDWRR!E41 -> 8 | F41: =SF113A___Federal_Civilian_Empl_!F41+FNDWRR!F41 -> 299 | G41: =SF113A___Federal_Civilian_Empl_!G41+FNDWRR!G41 -> 121
A42: 30 | B42: Full-Time with Permanent Appointments | C42: =SF113A___Federal_Civilian_Empl_!C42+FNDWRR!C42 -> 381 | D42: =SF113A___Federal_Civilian_Empl_!D42+FNDWRR!D42 -> 0 | E42: =SF113A___Federal_Civilian_Empl_!E42+FNDWRR!E42 -> 8 | F42: =SF113A___Federal_Civilian_Empl_!F42+FNDWRR!F42 -> 252 | G42: =SF113A___Federal_Civilian_Empl_!G42+FNDWRR!G42 -> 121
A43: 31 | B43: Total Payroll (1000/Base) | C43: =SF113A___Federal_Civilian_Empl_!C43+FNDWRR!C43 -> 0 | D43: =SF113A___Federal_Civilian_Empl_!D43+FNDWRR!D43 -> 0 | E43: =SF113A___Federal_Civilian_Empl_!E43+FNDWRR!E43 -> 0 | F43: =SF113A___Federal_Civilian_Empl_!F43+FNDWRR!F43 -> 0 | G43: =SF113A___Federal_Civilian_Empl_!G43+FNDWRR!G43 -> 0

Sheet SF113A___Federal_Civilian_Empl_
A1: QUARTERLY REPORT OF FEDERAL CIVILIAN EMPLOYMENT (SF-113-A Format)
A2: 1 | B2: DEPARTMENT OR AGENCY: | C2: Department of Defense
A3: 2 | B3: OTHER ORGANIZATIONAL UNIT: | C3: Defense Security Cooperation Agency (DD06)
A4: 3 | B4: EMPLOYMENT AS OF: | C4: 41547
A5: 4 | B5: PAYROLL FROM: | C5: 41456 | D5: TO: | E5: 41547
A6: 5 | B6: TURNOVER FROM: | C6: 41456 | D6: TO: | E6: 41547
B7: Employment, Payroll, and Turnover | C7: Total All Areas | D7: U. S. Territories | E7: Foreign Countries | F7: Wash., D.C. Metro. Area | G7: Outside Wash., Metro. Area
C8: (A) | D8: (B) | E8: (C) | F8: (D) | G8: (E)
B9: SECTION I - CURRENT STATUS
A10: 1 | B10: Grand Total Employment | C10: 103 | D10: 0 | E10: 4 | F10: 96 | G10: 3
A11: 2 | B11: Total in Permanent Positions | C11: 103 | D11: 0 | E11: 4 | F11: 96 | G11: 3
A12: 3 | B12: Full-Time | C12: 103 | D12: 0 | E12: 4 | F12: 96 | G12: 3
A13: 4 | B13: Full-Time in Permanent Positions | C13: 103 | D13: 0 | E13: 4 | F13: 96 | G13: 3
A14: 5 | B14: Full-Time with Permanent Appointments | C14: 57 | D14: 0 | E14: 4 | F14: 50 | G14: 3
A15: 6 | B15: Part-Time | C15: 0 | D15: 0 | E15: 0 | F15: 0 | G15: 0
A16: 7 | B16: Part-Time with Permanent Appointments | C16: 0 | D16: 0 | E16: 0 | F16: 0 | G16: 0
A17: 8 | B17: Intermittent | C17: 0 | D17: 0 | E17: 0 | F17: 0 | G17: 0
A18: 9 | B18: Competitive Service | C18: 57 | D18: 0 | E18: 4 | F18: 50 | G18: 3
A19: 10 | B19: With Permanent Appointments | C19: 57 | D19: 0 | E19: 4 | F19: 50 | G19: 3
A20: 11 | B20: Excepted Service and SES | C20: 46 | D20: 0 | E20: 0 | F20: 46 | G20: 0
A21: 12 | B21: With Permanent Appointments | C21: 0 | D21: 0 | E21: 0 | F21: 0 | G21: 0
... A25: 16 | B25: Total Intermittent Not Working | C25: 0 | D25: 0 | E25: 0 | F25: 0 | G25: 0
B26: SECTION II - PAYROLL
A27: 17 | B27: Wages and Salaries Earned – Total (1000/Base) | C27: 0 | D27: 0 | E27: 0 | F27: 0 | G27: 0
A28: 18 | B28: Lump Sum Payment (1000/Base) | C28: 0 | D28: 0 | E28: 0 | F28: 0 | G28: 0
B29: SECTION III - TURNOVER
A30: 19 | B30: Total Accessions | C30: 6 | D30: 0 | E30: 0 | F30: 6 | G30: 0
A31: 20 | B31: Transfers | C31: 0 | D31: 0 | E31: 0 | F31: 0 | G31: 0
A32: 21 | B32: Total New Hires | C32: 6 | D32: 0 | E32: 0 | F32: 6 | G32: 0
A33: 22 | B33: Accessions to the Competitive Service | C33: 4 | D33: 0 | E33: 0 | F33: 4 | G33: 0
A34: 23 | B34: New Hires to the Competitive Service | C34: 4 | D34: 0 | E34: 0 | F34: 4 | G34: 0
A35: 24 | B35: U. S. Citizens | C35: 6 | D35: 0 | E35: 0 | F35: 6 | G35: 0
A36: 25 | B36: Total Separations | C36: 4 | D36: 0 | E36: 0 | F36: 4 | G36: 0
A37: 26 | B37: Transfers | C37: 1 | D37: 0 | E37: 0 | F37: 1 | G37: 0
A38: 27 | B38: Quits | C38: 3 | D38: 0 | E38: 0 | F38: 3 | G38: 0
A39: 28 | B39: U. S. Citizens | C39: 4 | D39: 0 | E39: 0 | F39: 4 | G39: 0
B40: SECTION IV - DATA EXCLUDING SPECIAL EMPLOYMENT CATEGORIES
A41: 29 | B41: Total Employment | C41: 103 | D41: 0 | E41: 4 | F41: 96 | G41: 3
A42: 30 | B42: Full-Time with Permanent Appointments | C42: 57 | D42: 0 | E42: 4 | F42: 50 | G42: 3
A43: 31 | B43: Total Payroll (1000/Base) | C43: 0 | D43: 0 | E43: 0 | F43: 0 | G43: 0

Sheet FNDWRR
A1: MONTHLY REPORT OF FEDERAL CIVILIAN EMPLOYMENT (SF-113-A Format)
A2: 1 | B2: DEPARTMENT OR AGENCY: | C2: Department of Defense
A3: 2 | B3: OTHER ORGANIZATIONAL UNIT: | C3: Defense Security Cooperation Agency (DD06)
A4: 3 | B4: EMPLOYMENT AS OF: | C4: 41547
A5: 4 | B5: PAYROLL FROM: | C5: 41456 | D5: TO: | E5: 41547
A6: 5 | B6: TURNOVER FROM: | C6: 41456 | D6: TO: | E6: 41547
B7: Employment, Payroll, and Turnover | C7: Total All Areas | D7: U. S. Territories | E7: Foreign Countries | F7: Wash., D.C. Metro. Area | G7: Outside Wash., Metro. Area
C8: (A) | D8: (B) | E8: (C) | F8: (D) | G8: (E)
B9: SECTION I - CURRENT STATUS
A10: 1 | B10: Grand Total Employment | C10: 325 | D10: 0 | E10: 4 | F10: 203 | G10: 118
A11: 2 | B11: Total in Permanent Positions | C11: 325 | D11: 0 | E11: 4 | F11: 203 | G11: 118
A12: 3 | B12: Full-Time | C12: 325 | D12: 0 | E12: 4 | F12: 203 | G12: 118
A13: 4 | B13: Full-Time in Permanent Positions | C13: 325 | D13: 0 | E13: 4 | F13: 203 | G13: 118
A14: 5 | B14: Full-Time with Permanent Appointments | C14: 324 | D14: 0 | E14: 4 | F14: 202 | G14: 118
A15: 6 | B15: Part-Time | C15: 0 | D15: 0 | E15: 0 | F15: 0 | G15: 0
A16: 7 | B16: Part-Time with Permanent Appointments | C16: 0 | D16: 0 | E16: 0 | F16: 0 | G16: 0
A17: 8 | B17: Intermittent | C17: 0 | D17: 0 | E17: 0 | F17: 0 | G17: 0
A18: 9 | B18: Competitive Service | C18: 308 | D18: 0 | E18: 4 | F18: 194 | G18: 110
A19: 10 | B19: With Permanent Appointments | C19: 308 | D19: 0 | E19: 4 | F19: 194 | G19: 110
A20: 11 | B20: Excepted Service and SES | C20: 17 | D20: 0 | E20: 0 | F20: 9 | G20: 8
A21: 12 | B21: With Permanent Appointments | C21: 16 | D21: 0 | E21: 0 | F21: 8 | G21: 8
... A25: 16 | B25: Total Intermittent Not Working | C25: 0 | D25: 0 | E25: 0 | F25: 0 | G25: 0
B26: SECTION II - PAYROLL
A27: 17 | B27: Wages and Salaries Earned – Total (1000/Base) | C27: 0 | D27: 0 | E27: 0 | F27: 0 | G27: 0
A28: 18 | B28: Lump Sum Payment (1000/Base) | C28: 0 | D28: 0 | E28: 0 | F28: 0 | G28: 0
B29: SECTION III - TURNOVER
A30: 19 | B30: Total Accessions | C30: 1 | D30: 0 | E30: 0 | F30: 1 | G30: 0
A31: 20 | B31: Transfers | C31: 0 | D31: 0 | E31: 0 | F31: 0 | G31: 0
A32: 21 | B32: Total New Hires | C32: 1 | D32: 0 | E32: 0 | F32: 1 | G32: 0
A33: 22 | B33: Accessions to the Competitive Service | C33: 1 | D33: 0 | E33: 0 | F33: 1 | G33: 0
A34: 23 | B34: New Hires to the Competitive Service | C34: 1 | D34: 0 | E34: 0 | F34: 1 | G34: 0
A35: 24 | B35: U. S. Citizens | C35: 1 | D35: 0 | E35: 0 | F35: 1 | G35: 0
A36: 25 | B36: Total Separations | C36: 6 | D36: 0 | E36: 0 | F36: 1 | G36: 5
A37: 26 | B37: Transfers | C37: 0 | D37: 0 | E37: 0 | F37: 0 | G37: 0
A38: 27 | B38: Quits | C38: 1 | D38: 0 | E38: 0 | F38: 0 | G38: 1
A39: 28 | B39: U. S. Citizens | C39: 6 | D39: 0 | E39: 0 | F39: 1 | G39: 5
B40: SECTION IV - DATA EXCLUDING SPECIAL EMPLOYMENT CATEGORIES
A41: 29 | B41: Total Employment | C41: 325 | D41: 0 | E41: 4 | F41: 203 | G41: 118
A42: 30 | B42: Full-Time with Permanent Appointments | C42: 324 | D42: 0 | E42: 4 | F42: 202 | G42: 118
A43: 31 | B43: Total Payroll (1000/Base) | C43: 0 | D43: 0 | E43: 0 | F43: 0 | G43: 0
